BEGIN:VCALENDAR
VERSION:2.0
PRODID:-//Encín Golf Hotel - Escuela de Golf, Hotel, Restaurante en Madrid - ECPv6.0.11//NONSGML v1.0//EN
CALSCALE:GREGORIAN
METHOD:PUBLISH
X-ORIGINAL-URL:https://encin.golf
X-WR-CALDESC:Eventos para Encín Golf Hotel - Escuela de Golf, Hotel, Restaurante en Madrid
REFRESH-INTERVAL;VALUE=DURATION:PT1H
X-Robots-Tag:noindex
X-PUBLISHED-TTL:PT1H
BEGIN:VTIMEZONE
TZID:UTC
BEGIN:STANDARD
TZOFFSETFROM:+0000
TZOFFSETTO:+0000
TZNAME:UTC
DTSTART:20170101T000000
END:STANDARD
END:VTIMEZONE
BEGIN:VEVENT
DTSTART;TZID=UTC:20171104T083000
DTEND;TZID=UTC:20171104T173000
DTSTAMP:20260424T155107
CREATED:20171030T103720Z
LAST-MODIFIED:20171102T085541Z
UID:13086-1509784200-1509816600@encin.golf
SUMMARY:Torneo Jaguar Land Rover (salidas progresivas)
DESCRIPTION:[fullwidth background_color=»» background_image=»» background_parallax=»none» enable_mobile=»no» parallax_speed=»0.3″ background_repeat=»no-repeat» background_position=»left top» video_url=»» video_aspect_ratio=»16:9″ video_webm=»» video_mp4=»» video_ogv=»» video_preview_image=»» overlay_color=»» overlay_opacity=»0.5″ video_mute=»yes» video_loop=»yes» fade=»no» border_size=»0px» border_color=»» border_style=»solid» padding_top=»0px» padding_bottom=»60px» padding_left=»0px» padding_right=»0px» hundred_percent=»no» equal_height_columns=»no» hide_on_mobile=»no» menu_anchor=»» class=»» id=»»] \nTorneo Jaguar Land Rover (salidas progresivas)\n \n[one_half last=»no» spacing=»yes» center_content=»no» hide_on_mobile=»no» background_color=»» background_image=»» background_repeat=»no-repeat» background_position=»left top» border_position=»all» border_size=»0px» border_color=»» border_style=»» padding=»» margin_top=»» margin_bottom=»» animation_type=»» animation_direction=»» animation_speed=»0.1″ class=»» id=»»] \nEl próximo 4 y 5 de Noviembre en el club de golf el Encín Golf\, se celebrará el Circuito Madera y Titanio Jaguar Land Rover – Encín Golf Hotel – ABIERTO. La modalidad será Dobles Mejor Bola (se elige uno de los dos días).\n \nSALIDAS: \n\n4 de Noviembre: Salidas progresivas a las 8:30.\n5 de Noviembre: Salidas a las 9.30\n\nABIERTAS INSCRIPCIONES: \n\n\n\n31 de Octubre 2017 en el Encín Golf: Por teléfono: 91 830 70 69\n\n\n\n\nPREMIOS y REGALOS: Próximamente más información\n \n \n[/one_half][one_third last=»yes» spacing=»yes» center_content=»no» hide_on_mobile=»no» background_color=»» background_image=»» background_repeat=»no-repeat» background_position=»left top» border_position=»all» border_size=»0px» border_color=»» border_style=»solid» padding=»» margin_top=»» margin_bottom=»» animation_type=»0″ animation_direction=»down» animation_speed=»0.1″ class=»» id=»»][imageframe lightbox=»yes» lightbox_image=»http://encin.golf/wp-content/uploads/2017/11/Torneo-Jaguar-Encin-Cartel.jpg» style_type=»none» hover_type=»zoomin» bordercolor=»» bordersize=»0px» borderradius=»0″ stylecolor=»» align=»center» link=»» linktarget=»_self» animation_type=»fade» animation_direction=»down» animation_speed=»0.1″ hide_on_mobile=»no» class=»» id=»»] [/imageframe][/one_third] \n[/fullwidth]\n[fullwidth background_color=»» background_image=»» background_parallax=»none» enable_mobile=»no» parallax_speed=»0.3″ background_repeat=»no-repeat» background_position=»left top» video_url=»» video_aspect_ratio=»16:9″ video_webm=»» video_mp4=»» video_ogv=»» video_preview_image=»» overlay_color=»» overlay_opacity=»0.5″ video_mute=»yes» video_loop=»yes» fade=»no» border_size=»0px» border_color=»» border_style=»solid» padding_top=»0px» padding_bottom=»60px» padding_left=»0px» padding_right=»0px» hundred_percent=»no» equal_height_columns=»no» hide_on_mobile=»no» menu_anchor=»» class=»» id=»»][one_half last=»no» spacing=»yes» center_content=»no» hide_on_mobile=»no» background_color=»» background_image=»» background_repeat=»no-repeat» background_position=»left top» border_position=»all» border_size=»0px» border_color=»» border_style=»» padding=»» margin_top=»» margin_bottom=»» animation_type=»» animation_direction=»» animation_speed=»0.1″ class=»» id=»»][imageframe lightbox=»no» lightbox_image=»» style_type=»none» hover_type=»zoomin» bordercolor=»» bordersize=»0px» borderradius=»0″ stylecolor=»» align=»center» link=»» linktarget=»_self» animation_type=»fade» animation_direction=»down» animation_speed=»0.1″ hide_on_mobile=»no» class=»» id=»»] [/imageframe][button link=»http://encin.golf/pdf/torneos/salidas/Salidas04-11-17.pdf» color=»custom» size=»xlarge» type=»3d» shape=»pill» target=»_self» title=»» gradient_colors=»#a0ce4e|» gradient_hover_colors=»#96c346|» accent_color=»» accent_hover_color=»» bevel_color=»» border_width=»0px» icon=»fa-th-list» icon_position=»left» icon_divider=»no» modal=»» animation_type=»0″ animation_direction=»up» animation_speed=»1″ alignment=»center» class=»» id=»»]Descargar[/button][/one_half][one_half last=»yes» spacing=»yes» center_content=»no» hide_on_mobile=»no» background_color=»» background_image=»» background_repeat=»no-repeat» background_position=»left top» border_position=»all» border_size=»0px» border_color=»» border_style=»solid» padding=»» margin_top=»» margin_bottom=»» animation_type=»0″ animation_direction=»down» animation_speed=»0.1″ class=»» id=»»][imageframe lightbox=»no» lightbox_image=»» style_type=»none» hover_type=»zoomin» bordercolor=»» bordersize=»0px» borderradius=»0″ stylecolor=»» align=»center» link=»» linktarget=»_self» animation_type=»fade» animation_direction=»down» animation_speed=»0.1″ hide_on_mobile=»no» class=»» id=»»] [/imageframe][button link=»http://encin.golf/pdf/torneos/clasificaciones/Clasificaciones04-11-17.pdf» color=»custom» size=»xlarge» type=»3d» shape=»pill» target=»_self» title=»» gradient_colors=»#a0ce4e|» gradient_hover_colors=»#96c346|» accent_color=»» accent_hover_color=»» bevel_color=»» border_width=»0px» icon=»fa-trophy» icon_position=»left» icon_divider=»no» modal=»» animation_type=»0″ animation_direction=»up» animation_speed=»1″ alignment=»center» class=»» id=»»]Descargar[/button][/one_half][/fullwidth]
URL:https://encin.golf/torneo/torneo-jaguar-land-rover
LOCATION:Campo Encín Golf\, Hotel el Encín Golf AUTOVÍA A2\, KM 35.600\, Madrid\, Madrid\, 28805\, España
CATEGORIES:Modalidad: FOUR BALL - Mejor Bola,Torneo Abierto
ATTACH;FMTTYPE=image/jpeg:https://encin.golf/wp-content/uploads/2017/10/Encin-Golf-Hotel-Madera-y-Titano-Jaguar-Land-Rover-Golf-Tournament.jpg
END:VEVENT
END:VCALENDAR