BEGIN:VCALENDAR
VERSION:2.0
PRODID:-//Encín Golf Hotel - Escuela de Golf, Hotel, Restaurante en Madrid - ECPv6.0.11//NONSGML v1.0//EN
CALSCALE:GREGORIAN
METHOD:PUBLISH
X-WR-CALNAME:Encín Golf Hotel - Escuela de Golf, Hotel, Restaurante en Madrid
X-ORIGINAL-URL:https://encin.golf
X-WR-CALDESC:Eventos para Encín Golf Hotel - Escuela de Golf, Hotel, Restaurante en Madrid
REFRESH-INTERVAL;VALUE=DURATION:PT1H
X-Robots-Tag:noindex
X-PUBLISHED-TTL:PT1H
BEGIN:VTIMEZONE
TZID:UTC
BEGIN:STANDARD
TZOFFSETFROM:+0000
TZOFFSETTO:+0000
TZNAME:UTC
DTSTART:20200101T000000
END:STANDARD
END:VTIMEZONE
BEGIN:VEVENT
DTSTART;VALUE=DATE:20200517
DTEND;VALUE=DATE:20200518
DTSTAMP:20260419T114521
CREATED:20200123T164333Z
LAST-MODIFIED:20200123T164333Z
UID:14955-1589673600-1589759999@encin.golf
SUMMARY:DARSAN AUTO - HONDA
DESCRIPTION:CONSULTARInformaciónDESCARGAR SALIDASDESCARGAR CLASIFICACIONES
URL:https://encin.golf/torneo/darsan-auto-honda
LOCATION:Madrid
CATEGORIES:Modalidad: IND. STAB
END:VEVENT
END:VCALENDAR