BEGIN:VCALENDAR
VERSION:2.0
PRODID:-//Encín Golf Hotel - Escuela de Golf, Hotel, Restaurante en Madrid - ECPv6.0.11//NONSGML v1.0//EN
CALSCALE:GREGORIAN
METHOD:PUBLISH
X-WR-CALNAME:Encín Golf Hotel - Escuela de Golf, Hotel, Restaurante en Madrid
X-ORIGINAL-URL:https://encin.golf
X-WR-CALDESC:Eventos para Encín Golf Hotel - Escuela de Golf, Hotel, Restaurante en Madrid
REFRESH-INTERVAL;VALUE=DURATION:PT1H
X-Robots-Tag:noindex
X-PUBLISHED-TTL:PT1H
BEGIN:VTIMEZONE
TZID:UTC
BEGIN:STANDARD
TZOFFSETFROM:+0000
TZOFFSETTO:+0000
TZNAME:UTC
DTSTART:20170101T000000
END:STANDARD
END:VTIMEZONE
BEGIN:VEVENT
DTSTART;TZID=UTC:20171005T093000
DTEND;TZID=UTC:20171005T170000
DTSTAMP:20260424T143502
CREATED:20171004T160241Z
LAST-MODIFIED:20171004T160241Z
UID:13068-1507195800-1507222800@encin.golf
SUMMARY:Cartagena de Indias Golf Tour - AESGOLF
DESCRIPTION:[fullwidth background_color=»» background_image=»» background_parallax=»none» enable_mobile=»no» parallax_speed=»0.3″ background_repeat=»no-repeat» background_position=»left top» video_url=»» video_aspect_ratio=»16:9″ video_webm=»» video_mp4=»» video_ogv=»» video_preview_image=»» overlay_color=»» overlay_opacity=»0.5″ video_mute=»yes» video_loop=»yes» fade=»no» border_size=»0px» border_color=»» border_style=»solid» padding_top=»0px» padding_bottom=»60px» padding_left=»0px» padding_right=»0px» hundred_percent=»no» equal_height_columns=»no» hide_on_mobile=»no» menu_anchor=»» class=»» id=»»][one_half last=»no» spacing=»yes» center_content=»no» hide_on_mobile=»no» background_color=»» background_image=»» background_repeat=»no-repeat» background_position=»left top» border_position=»all» border_size=»0px» border_color=»» border_style=»» padding=»» margin_top=»» margin_bottom=»» animation_type=»» animation_direction=»» animation_speed=»0.1″ class=»» id=»»][imageframe lightbox=»no» lightbox_image=»» style_type=»none» hover_type=»zoomin» bordercolor=»» bordersize=»0px» borderradius=»0″ stylecolor=»» align=»center» link=»» linktarget=»_self» animation_type=»fade» animation_direction=»down» animation_speed=»0.1″ hide_on_mobile=»no» class=»» id=»»] [/imageframe][button link=»http://encin.golf/pdf/torneos/salidas/Salidas05-10-17.pdf» color=»custom» size=»xlarge» type=»3d» shape=»pill» target=»_self» title=»» gradient_colors=»#a0ce4e|» gradient_hover_colors=»#96c346|» accent_color=»» accent_hover_color=»» bevel_color=»» border_width=»0px» icon=»fa-th-list» icon_position=»left» icon_divider=»no» modal=»» animation_type=»0″ animation_direction=»up» animation_speed=»1″ alignment=»center» class=»» id=»»]Descargar[/button][/one_half][one_half last=»yes» spacing=»yes» center_content=»no» hide_on_mobile=»no» background_color=»» background_image=»» background_repeat=»no-repeat» background_position=»left top» border_position=»all» border_size=»0px» border_color=»» border_style=»solid» padding=»» margin_top=»» margin_bottom=»» animation_type=»0″ animation_direction=»down» animation_speed=»0.1″ class=»» id=»»][imageframe lightbox=»no» lightbox_image=»» style_type=»none» hover_type=»zoomin» bordercolor=»» bordersize=»0px» borderradius=»0″ stylecolor=»» align=»center» link=»» linktarget=»_self» animation_type=»fade» animation_direction=»down» animation_speed=»0.1″ hide_on_mobile=»no» class=»» id=»»] [/imageframe][button link=»http://encin.golf/pdf/torneos/clasificaciones/Clasificaciones05-10-17.pdf» color=»custom» size=»xlarge» type=»3d» shape=»pill» target=»_self» title=»» gradient_colors=»#a0ce4e|» gradient_hover_colors=»#96c346|» accent_color=»» accent_hover_color=»» bevel_color=»» border_width=»0px» icon=»fa-trophy» icon_position=»left» icon_divider=»no» modal=»» animation_type=»0″ animation_direction=»up» animation_speed=»1″ alignment=»center» class=»» id=»»]Descargar[/button][/one_half][/fullwidth]
URL:https://encin.golf/torneo/cartagena-de-indias-golf-tour-aesgolf
LOCATION:Campo Encín Golf\, Hotel el Encín Golf AUTOVÍA A2\, KM 35.600\, Madrid\, Madrid\, 28805\, España
CATEGORIES:Torneo Abierto
ATTACH;FMTTYPE=image/jpeg:https://encin.golf/wp-content/uploads/2016/06/Proximamente-mas-informacin-torneos-encin-golf-Hotel-2.jpg
END:VEVENT
BEGIN:VEVENT
DTSTART;TZID=UTC:20171006T140000
DTEND;TZID=UTC:20171006T200000
DTSTAMP:20260424T143502
CREATED:20170929T165613Z
LAST-MODIFIED:20170929T170016Z
UID:13062-1507298400-1507320000@encin.golf
SUMMARY:I Torneo Índalo Tapas
DESCRIPTION:[fullwidth background_color=»» background_image=»» background_parallax=»none» enable_mobile=»no» parallax_speed=»0.3″ background_repeat=»no-repeat» background_position=»left top» video_url=»» video_aspect_ratio=»16:9″ video_webm=»» video_mp4=»» video_ogv=»» video_preview_image=»» overlay_color=»» overlay_opacity=»0.5″ video_mute=»yes» video_loop=»yes» fade=»no» border_size=»0px» border_color=»» border_style=»solid» padding_top=»0px» padding_bottom=»60px» padding_left=»0px» padding_right=»0px» hundred_percent=»no» equal_height_columns=»no» hide_on_mobile=»no» menu_anchor=»» class=»» id=»»] \nI Torneo Índalo Tapas\n \n[one_half last=»no» spacing=»yes» center_content=»no» hide_on_mobile=»no» background_color=»» background_image=»» background_repeat=»no-repeat» background_position=»left top» border_position=»all» border_size=»0px» border_color=»» border_style=»» padding=»» margin_top=»» margin_bottom=»» animation_type=»» animation_direction=»» animation_speed=»0.1″ class=»» id=»»] \nEl próximo Viernes 6 de Octubre de 2017 en el club de golf el Encín Golf\, se celebrará el I Torneo Índalo Tapas – ABIERTO. La modalidad será Individual Stableford \nSALIDAS: \nSalidas a tiro a las 14:00 horas. \nABIERTAS INSCRIPCIONES: \n\nPor mail: info@hookandslice.es Por teléfono: 618 56 32 28 / 91 830 70 69\n\nPremios y regalos: Más información en el cartel\n\n\n \n  \n\n[/one_half][one_third last=»yes» spacing=»yes» center_content=»no» hide_on_mobile=»no» background_color=»» background_image=»» background_repeat=»no-repeat» background_position=»left top» border_position=»all» border_size=»0px» border_color=»» border_style=»solid» padding=»» margin_top=»» margin_bottom=»» animation_type=»0″ animation_direction=»down» animation_speed=»0.1″ class=»» id=»»][imageframe lightbox=»yes» lightbox_image=»http://encin.golf/wp-content/uploads/2017/09/IMG_7016.jpg» style_type=»none» hover_type=»zoomin» bordercolor=»» bordersize=»0px» borderradius=»0″ stylecolor=»» align=»center» link=»» linktarget=»_self» animation_type=»fade» animation_direction=»down» animation_speed=»0.1″ hide_on_mobile=»no» class=»» id=»»] [/imageframe][/one_third] \n[/fullwidth]\n[fullwidth background_color=»» background_image=»» background_parallax=»none» enable_mobile=»no» parallax_speed=»0.3″ background_repeat=»no-repeat» background_position=»left top» video_url=»» video_aspect_ratio=»16:9″ video_webm=»» video_mp4=»» video_ogv=»» video_preview_image=»» overlay_color=»» overlay_opacity=»0.5″ video_mute=»yes» video_loop=»yes» fade=»no» border_size=»0px» border_color=»» border_style=»solid» padding_top=»0px» padding_bottom=»60px» padding_left=»0px» padding_right=»0px» hundred_percent=»no» equal_height_columns=»no» hide_on_mobile=»no» menu_anchor=»» class=»» id=»»][one_half last=»no» spacing=»yes» center_content=»no» hide_on_mobile=»no» background_color=»» background_image=»» background_repeat=»no-repeat» background_position=»left top» border_position=»all» border_size=»0px» border_color=»» border_style=»» padding=»» margin_top=»» margin_bottom=»» animation_type=»» animation_direction=»» animation_speed=»0.1″ class=»» id=»»][imageframe lightbox=»no» lightbox_image=»» style_type=»none» hover_type=»zoomin» bordercolor=»» bordersize=»0px» borderradius=»0″ stylecolor=»» align=»center» link=»» linktarget=»_self» animation_type=»fade» animation_direction=»down» animation_speed=»0.1″ hide_on_mobile=»no» class=»» id=»»] [/imageframe][button link=»http://encin.golf/pdf/torneos/salidas/Salidas06-10-17.pdf» color=»custom» size=»xlarge» type=»3d» shape=»pill» target=»_self» title=»» gradient_colors=»#a0ce4e|» gradient_hover_colors=»#96c346|» accent_color=»» accent_hover_color=»» bevel_color=»» border_width=»0px» icon=»fa-th-list» icon_position=»left» icon_divider=»no» modal=»» animation_type=»0″ animation_direction=»up» animation_speed=»1″ alignment=»center» class=»» id=»»]Descargar[/button][/one_half][one_half last=»yes» spacing=»yes» center_content=»no» hide_on_mobile=»no» background_color=»» background_image=»» background_repeat=»no-repeat» background_position=»left top» border_position=»all» border_size=»0px» border_color=»» border_style=»solid» padding=»» margin_top=»» margin_bottom=»» animation_type=»0″ animation_direction=»down» animation_speed=»0.1″ class=»» id=»»][imageframe lightbox=»no» lightbox_image=»» style_type=»none» hover_type=»zoomin» bordercolor=»» bordersize=»0px» borderradius=»0″ stylecolor=»» align=»center» link=»» linktarget=»_self» animation_type=»fade» animation_direction=»down» animation_speed=»0.1″ hide_on_mobile=»no» class=»» id=»»] [/imageframe][button link=»http://encin.golf/pdf/torneos/clasificaciones/Clasificaciones06-10-17.pdf» color=»custom» size=»xlarge» type=»3d» shape=»pill» target=»_self» title=»» gradient_colors=»#a0ce4e|» gradient_hover_colors=»#96c346|» accent_color=»» accent_hover_color=»» bevel_color=»» border_width=»0px» icon=»fa-trophy» icon_position=»left» icon_divider=»no» modal=»» animation_type=»0″ animation_direction=»up» animation_speed=»1″ alignment=»center» class=»» id=»»]Descargar[/button][/one_half][/fullwidth]
URL:https://encin.golf/torneo/i-torneo-indalo-tapas
LOCATION:Campo Encín Golf\, Hotel el Encín Golf AUTOVÍA A2\, KM 35.600\, Madrid\, Madrid\, 28805\, España
CATEGORIES:Modalidad: IND. STAB,Torneo Abierto
ATTACH;FMTTYPE=image/jpeg:https://encin.golf/wp-content/uploads/2016/06/Proximamente-mas-informacin-torneos-encin-golf-Hotel-2.jpg
END:VEVENT
BEGIN:VEVENT
DTSTART;TZID=UTC:20171008T080000
DTEND;TZID=UTC:20171008T170000
DTSTAMP:20260424T143502
CREATED:20170210T094554Z
LAST-MODIFIED:20170929T164208Z
UID:12635-1507449600-1507482000@encin.golf
SUMMARY:II PLAY-OFFS MADRID CHAMPIONSHIPS- ABIERTO
DESCRIPTION:[fullwidth background_color=»» background_image=»» background_parallax=»none» enable_mobile=»no» parallax_speed=»0.3″ background_repeat=»no-repeat» background_position=»left top» video_url=»» video_aspect_ratio=»16:9″ video_webm=»» video_mp4=»» video_ogv=»» video_preview_image=»» overlay_color=»» overlay_opacity=»0.5″ video_mute=»yes» video_loop=»yes» fade=»no» border_size=»0px» border_color=»» border_style=»solid» padding_top=»0px» padding_bottom=»60px» padding_left=»0px» padding_right=»0px» hundred_percent=»no» equal_height_columns=»no» hide_on_mobile=»no» menu_anchor=»» class=»» id=»»] \nII Play-Offs MADRID Championships – ABIERTO\n \n[one_half last=»no» spacing=»yes» center_content=»no» hide_on_mobile=»no» background_color=»» background_image=»» background_repeat=»no-repeat» background_position=»left top» border_position=»all» border_size=»0px» border_color=»» border_style=»» padding=»» margin_top=»» margin_bottom=»» animation_type=»» animation_direction=»» animation_speed=»0.1″ class=»» id=»»] \nEl próximo Domingo 8 de Octubre de 2017 en el club de golf el Encín Golf\, se celebrará el II Play-Offs MADRID Championships – ABIERTO. La modalidad será Individual Stableford \nSALIDAS: \nSalidas a tiro a las 8:30 y 14:00 horas.  \nABIERTAS INSCRIPCIONES: \n\nDomingo 8 de Octubre 2017 en el Encín Golf: Por teléfono: 91 830 70 69\n\nGran final: Octubre 2017 (próximamente más información)\n\n\n \n \n\n[/one_half][one_third last=»yes» spacing=»yes» center_content=»no» hide_on_mobile=»no» background_color=»» background_image=»» background_repeat=»no-repeat» background_position=»left top» border_position=»all» border_size=»0px» border_color=»» border_style=»solid» padding=»» margin_top=»» margin_bottom=»» animation_type=»0″ animation_direction=»down» animation_speed=»0.1″ class=»» id=»»][imageframe lightbox=»yes» lightbox_image=»http://encin.golf/wp-content/uploads/2017/09/Play-Offs-2-Olivar-de-la-Hinojosa-Encin-Golf-Torneo-de-Golf-Madrid-by-Perfect-Pixel-Agencia-de-publicidad-Cartel-LowRes.jpg» style_type=»none» hover_type=»zoomin» bordercolor=»» bordersize=»0px» borderradius=»0″ stylecolor=»» align=»center» link=»» linktarget=»_self» animation_type=»fade» animation_direction=»down» animation_speed=»0.1″ hide_on_mobile=»no» class=»» id=»»] [/imageframe][/one_third] \n[/fullwidth]\n[fullwidth background_color=»» background_image=»» background_parallax=»none» enable_mobile=»no» parallax_speed=»0.3″ background_repeat=»no-repeat» background_position=»left top» video_url=»» video_aspect_ratio=»16:9″ video_webm=»» video_mp4=»» video_ogv=»» video_preview_image=»» overlay_color=»» overlay_opacity=»0.5″ video_mute=»yes» video_loop=»yes» fade=»no» border_size=»0px» border_color=»» border_style=»solid» padding_top=»0px» padding_bottom=»60px» padding_left=»0px» padding_right=»0px» hundred_percent=»no» equal_height_columns=»no» hide_on_mobile=»no» menu_anchor=»» class=»» id=»»][one_half last=»no» spacing=»yes» center_content=»no» hide_on_mobile=»no» background_color=»» background_image=»» background_repeat=»no-repeat» background_position=»left top» border_position=»all» border_size=»0px» border_color=»» border_style=»» padding=»» margin_top=»» margin_bottom=»» animation_type=»» animation_direction=»» animation_speed=»0.1″ class=»» id=»»][imageframe lightbox=»no» lightbox_image=»» style_type=»none» hover_type=»zoomin» bordercolor=»» bordersize=»0px» borderradius=»0″ stylecolor=»» align=»center» link=»» linktarget=»_self» animation_type=»fade» animation_direction=»down» animation_speed=»0.1″ hide_on_mobile=»no» class=»» id=»»] [/imageframe][button link=»http://encin.golf/pdf/torneos/salidas/Salidas08-10-17.pdf» color=»custom» size=»xlarge» type=»3d» shape=»pill» target=»_self» title=»» gradient_colors=»#a0ce4e|» gradient_hover_colors=»#96c346|» accent_color=»» accent_hover_color=»» bevel_color=»» border_width=»0px» icon=»fa-th-list» icon_position=»left» icon_divider=»no» modal=»» animation_type=»0″ animation_direction=»up» animation_speed=»1″ alignment=»center» class=»» id=»»]Descargar[/button][/one_half][one_half last=»yes» spacing=»yes» center_content=»no» hide_on_mobile=»no» background_color=»» background_image=»» background_repeat=»no-repeat» background_position=»left top» border_position=»all» border_size=»0px» border_color=»» border_style=»solid» padding=»» margin_top=»» margin_bottom=»» animation_type=»0″ animation_direction=»down» animation_speed=»0.1″ class=»» id=»»][imageframe lightbox=»no» lightbox_image=»» style_type=»none» hover_type=»zoomin» bordercolor=»» bordersize=»0px» borderradius=»0″ stylecolor=»» align=»center» link=»» linktarget=»_self» animation_type=»fade» animation_direction=»down» animation_speed=»0.1″ hide_on_mobile=»no» class=»» id=»»] [/imageframe][button link=»http://encin.golf/pdf/torneos/clasificaciones/Clasificaciones08-10-17.pdf» color=»custom» size=»xlarge» type=»3d» shape=»pill» target=»_self» title=»» gradient_colors=»#a0ce4e|» gradient_hover_colors=»#96c346|» accent_color=»» accent_hover_color=»» bevel_color=»» border_width=»0px» icon=»fa-trophy» icon_position=»left» icon_divider=»no» modal=»» animation_type=»0″ animation_direction=»up» animation_speed=»1″ alignment=»center» class=»» id=»»]Descargar[/button][/one_half][/fullwidth]
URL:https://encin.golf/torneo/ii-play-offs-madrid-championships-abierto
LOCATION:Campo Encín Golf\, Hotel el Encín Golf AUTOVÍA A2\, KM 35.600\, Madrid\, Madrid\, 28805\, España
CATEGORIES:Modalidad: IND. STAB,Torneo Abierto
ATTACH;FMTTYPE=image/jpeg:https://encin.golf/wp-content/uploads/2017/02/Play-Offs-2-Olivar-de-la-Hinojosa-Encin-Golf-Torneo-de-Golf-Madrid-by-Perfect-Pixel-Agencia-de-publicidad.jpg
END:VEVENT
BEGIN:VEVENT
DTSTART;TZID=UTC:20171022T083000
DTEND;TZID=UTC:20171022T140000
DTSTAMP:20260424T143502
CREATED:20171005T090151Z
LAST-MODIFIED:20171005T090151Z
UID:13070-1508661000-1508680800@encin.golf
SUMMARY:Circuito ENJOY GOLF Heineken 2017 - Encín Golf Hotel
DESCRIPTION:[fullwidth background_color=»» background_image=»» background_parallax=»none» enable_mobile=»no» parallax_speed=»0.3″ background_repeat=»no-repeat» background_position=»left top» video_url=»» video_aspect_ratio=»16:9″ video_webm=»» video_mp4=»» video_ogv=»» video_preview_image=»» overlay_color=»» overlay_opacity=»0.5″ video_mute=»yes» video_loop=»yes» fade=»no» border_size=»0px» border_color=»» border_style=»solid» padding_top=»0px» padding_bottom=»60px» padding_left=»0px» padding_right=»0px» hundred_percent=»no» equal_height_columns=»no» hide_on_mobile=»no» menu_anchor=»» class=»» id=»»] \nCircuito ENJOY GOLF Heineken 2017 – Encín Golf Hotel\n \n[one_half last=»no» spacing=»yes» center_content=»no» hide_on_mobile=»no» background_color=»» background_image=»» background_repeat=»no-repeat» background_position=»left top» border_position=»all» border_size=»0px» border_color=»» border_style=»» padding=»» margin_top=»» margin_bottom=»» animation_type=»» animation_direction=»» animation_speed=»0.1″ class=»» id=»»] \nEl próximo Domingo 22 de Octubre de 2017 en el club de golf el Encín Golf\, se celebrará el Circuito ENJOY GOLF Heineken 2017 – Encín Golf Hotel – ABIERTO. La modalidad será Individual Stableford. Sólo para jugadores mayores de 18 años.\n \nSALIDAS: \nSalidas a tiro a las 8:30 y 14:00 horas. \nCategorías: \n\n1ª categoría caballeros: 0 a 18\,4 hcap.\n2ª categoría caballeros. 18\,5 a 36\,00 hcap.\nDamas: categoría única\n\nABIERTAS INSCRIPCIONES: \n\n\n\nJueves 5 de Octubre 2017 en el Encín Golf: Por teléfono: 91 830 70 69\n\n\n\n\nPREMIOS y  REGALOS: \n\n1º y 2º clasificado hándicap de 1ª categoría caballeros\n1º y 2º clasificado hándicap de 2ª categoría caballeros\n1º y 2º clasificada damas\nLOS GANADORES DEL PRIMER TORNEO ESTARÁN INVITADOS A PARTICIPAR EN EL SIGUIENTE TORNEO. CADA JUGADOR PARTICIPANTE RECIBIRÁ UN REGALO PROMOCIONAL DE HEINEKEN\n\n\n[/one_half][one_third last=»yes» spacing=»yes» center_content=»no» hide_on_mobile=»no» background_color=»» background_image=»» background_repeat=»no-repeat» background_position=»left top» border_position=»all» border_size=»0px» border_color=»» border_style=»solid» padding=»» margin_top=»» margin_bottom=»» animation_type=»0″ animation_direction=»down» animation_speed=»0.1″ class=»» id=»»][imageframe lightbox=»yes» lightbox_image=»http://encin.golf/wp-content/uploads/2017/10/Heineken-Advertisement-Encin-Gof-Perfect-Pixel-Cartel-def-LowRes.jpg» style_type=»none» hover_type=»zoomin» bordercolor=»» bordersize=»0px» borderradius=»0″ stylecolor=»» align=»center» link=»» linktarget=»_self» animation_type=»fade» animation_direction=»down» animation_speed=»0.1″ hide_on_mobile=»no» class=»» id=»»] [/imageframe][/one_third] \n[/fullwidth]\n[fullwidth background_color=»» background_image=»» background_parallax=»none» enable_mobile=»no» parallax_speed=»0.3″ background_repeat=»no-repeat» background_position=»left top» video_url=»» video_aspect_ratio=»16:9″ video_webm=»» video_mp4=»» video_ogv=»» video_preview_image=»» overlay_color=»» overlay_opacity=»0.5″ video_mute=»yes» video_loop=»yes» fade=»no» border_size=»0px» border_color=»» border_style=»solid» padding_top=»0px» padding_bottom=»60px» padding_left=»0px» padding_right=»0px» hundred_percent=»no» equal_height_columns=»no» hide_on_mobile=»no» menu_anchor=»» class=»» id=»»][one_half last=»no» spacing=»yes» center_content=»no» hide_on_mobile=»no» background_color=»» background_image=»» background_repeat=»no-repeat» background_position=»left top» border_position=»all» border_size=»0px» border_color=»» border_style=»» padding=»» margin_top=»» margin_bottom=»» animation_type=»» animation_direction=»» animation_speed=»0.1″ class=»» id=»»][imageframe lightbox=»no» lightbox_image=»» style_type=»none» hover_type=»zoomin» bordercolor=»» bordersize=»0px» borderradius=»0″ stylecolor=»» align=»center» link=»» linktarget=»_self» animation_type=»fade» animation_direction=»down» animation_speed=»0.1″ hide_on_mobile=»no» class=»» id=»»] [/imageframe][button link=»http://encin.golf/pdf/torneos/salidas/Salidas22-10-17.pdf» color=»custom» size=»xlarge» type=»3d» shape=»pill» target=»_self» title=»» gradient_colors=»#a0ce4e|» gradient_hover_colors=»#96c346|» accent_color=»» accent_hover_color=»» bevel_color=»» border_width=»0px» icon=»fa-th-list» icon_position=»left» icon_divider=»no» modal=»» animation_type=»0″ animation_direction=»up» animation_speed=»1″ alignment=»center» class=»» id=»»]Descargar[/button][/one_half][one_half last=»yes» spacing=»yes» center_content=»no» hide_on_mobile=»no» background_color=»» background_image=»» background_repeat=»no-repeat» background_position=»left top» border_position=»all» border_size=»0px» border_color=»» border_style=»solid» padding=»» margin_top=»» margin_bottom=»» animation_type=»0″ animation_direction=»down» animation_speed=»0.1″ class=»» id=»»][imageframe lightbox=»no» lightbox_image=»» style_type=»none» hover_type=»zoomin» bordercolor=»» bordersize=»0px» borderradius=»0″ stylecolor=»» align=»center» link=»» linktarget=»_self» animation_type=»fade» animation_direction=»down» animation_speed=»0.1″ hide_on_mobile=»no» class=»» id=»»] [/imageframe][button link=»http://encin.golf/pdf/torneos/clasificaciones/Clasificaciones22-10-17.pdf» color=»custom» size=»xlarge» type=»3d» shape=»pill» target=»_self» title=»» gradient_colors=»#a0ce4e|» gradient_hover_colors=»#96c346|» accent_color=»» accent_hover_color=»» bevel_color=»» border_width=»0px» icon=»fa-trophy» icon_position=»left» icon_divider=»no» modal=»» animation_type=»0″ animation_direction=»up» animation_speed=»1″ alignment=»center» class=»» id=»»]Descargar[/button][/one_half][/fullwidth]
URL:https://encin.golf/torneo/circuito-enjoy-golf-heineken-2017-encin-golf-hotel
LOCATION:Campo Encín Golf\, Hotel el Encín Golf AUTOVÍA A2\, KM 35.600\, Madrid\, Madrid\, 28805\, España
CATEGORIES:Modalidad: IND. STAB,Torneo Abierto
ATTACH;FMTTYPE=image/jpeg:https://encin.golf/wp-content/uploads/2017/10/Heineken-Advertisement-Encin-Gof-Perfect-Pixel-Publicidad-Banner.jpg
END:VEVENT
BEGIN:VEVENT
DTSTART;TZID=UTC:20171027T080000
DTEND;TZID=UTC:20171027T170000
DTSTAMP:20260424T143502
CREATED:20171020T143531Z
LAST-MODIFIED:20171020T143531Z
UID:13079-1509091200-1509123600@encin.golf
SUMMARY:Circuito de golf SOTOGRANDE
DESCRIPTION:[fullwidth background_color=»» background_image=»» background_parallax=»none» enable_mobile=»no» parallax_speed=»0.3″ background_repeat=»no-repeat» background_position=»left top» video_url=»» video_aspect_ratio=»16:9″ video_webm=»» video_mp4=»» video_ogv=»» video_preview_image=»» overlay_color=»» overlay_opacity=»0.5″ video_mute=»yes» video_loop=»yes» fade=»no» border_size=»0px» border_color=»» border_style=»solid» padding_top=»0px» padding_bottom=»60px» padding_left=»0px» padding_right=»0px» hundred_percent=»no» equal_height_columns=»no» hide_on_mobile=»no» menu_anchor=»» class=»» id=»»] \nCircuito de golf SOTOGRANDE\n \n[one_half last=»no» spacing=»yes» center_content=»no» hide_on_mobile=»no» background_color=»» background_image=»» background_repeat=»no-repeat» background_position=»left top» border_position=»all» border_size=»0px» border_color=»» border_style=»» padding=»» margin_top=»» margin_bottom=»» animation_type=»» animation_direction=»» animation_speed=»0.1″ class=»» id=»»] \nEl próximo Viernes 27 de Octubre de 2017 en el club de golf el Encín Golf\, se celebrará el Circuito de golf SOTOGRANDE – ABIERTO. \n \nPREMIOS ESPECIALES: \n\nHoyo en uno: reloj HUBLOT.\nDrive más largo: Putter Wilson\nGanadores: Trofeo y botella magnum de Marqués de Riscal\n\nABIERTAS INSCRIPCIONES: \n\n\n\nPor teléfono: 91 830 70 69\n\n\n\n\n\n[/one_half][one_third last=»yes» spacing=»yes» center_content=»no» hide_on_mobile=»no» background_color=»» background_image=»» background_repeat=»no-repeat» background_position=»left top» border_position=»all» border_size=»0px» border_color=»» border_style=»solid» padding=»» margin_top=»» margin_bottom=»» animation_type=»0″ animation_direction=»down» animation_speed=»0.1″ class=»» id=»»][imageframe lightbox=»yes» lightbox_image=»http://encin.golf/wp-content/uploads/2017/10/Cartel-Circuito-Sotogrande.jpg» style_type=»none» hover_type=»zoomin» bordercolor=»» bordersize=»0px» borderradius=»0″ stylecolor=»» align=»center» link=»» linktarget=»_self» animation_type=»fade» animation_direction=»down» animation_speed=»0.1″ hide_on_mobile=»no» class=»» id=»»] [/imageframe][/one_third] \n[/fullwidth]\n[fullwidth background_color=»» background_image=»» background_parallax=»none» enable_mobile=»no» parallax_speed=»0.3″ background_repeat=»no-repeat» background_position=»left top» video_url=»» video_aspect_ratio=»16:9″ video_webm=»» video_mp4=»» video_ogv=»» video_preview_image=»» overlay_color=»» overlay_opacity=»0.5″ video_mute=»yes» video_loop=»yes» fade=»no» border_size=»0px» border_color=»» border_style=»solid» padding_top=»0px» padding_bottom=»60px» padding_left=»0px» padding_right=»0px» hundred_percent=»no» equal_height_columns=»no» hide_on_mobile=»no» menu_anchor=»» class=»» id=»»][one_half last=»no» spacing=»yes» center_content=»no» hide_on_mobile=»no» background_color=»» background_image=»» background_repeat=»no-repeat» background_position=»left top» border_position=»all» border_size=»0px» border_color=»» border_style=»» padding=»» margin_top=»» margin_bottom=»» animation_type=»» animation_direction=»» animation_speed=»0.1″ class=»» id=»»][imageframe lightbox=»no» lightbox_image=»» style_type=»none» hover_type=»zoomin» bordercolor=»» bordersize=»0px» borderradius=»0″ stylecolor=»» align=»center» link=»» linktarget=»_self» animation_type=»fade» animation_direction=»down» animation_speed=»0.1″ hide_on_mobile=»no» class=»» id=»»] [/imageframe][button link=»http://encin.golf/pdf/torneos/salidas/Salidas27-10-17.pdf» color=»custom» size=»xlarge» type=»3d» shape=»pill» target=»_self» title=»» gradient_colors=»#a0ce4e|» gradient_hover_colors=»#96c346|» accent_color=»» accent_hover_color=»» bevel_color=»» border_width=»0px» icon=»fa-th-list» icon_position=»left» icon_divider=»no» modal=»» animation_type=»0″ animation_direction=»up» animation_speed=»1″ alignment=»center» class=»» id=»»]Descargar[/button][/one_half][one_half last=»yes» spacing=»yes» center_content=»no» hide_on_mobile=»no» background_color=»» background_image=»» background_repeat=»no-repeat» background_position=»left top» border_position=»all» border_size=»0px» border_color=»» border_style=»solid» padding=»» margin_top=»» margin_bottom=»» animation_type=»0″ animation_direction=»down» animation_speed=»0.1″ class=»» id=»»][imageframe lightbox=»no» lightbox_image=»» style_type=»none» hover_type=»zoomin» bordercolor=»» bordersize=»0px» borderradius=»0″ stylecolor=»» align=»center» link=»» linktarget=»_self» animation_type=»fade» animation_direction=»down» animation_speed=»0.1″ hide_on_mobile=»no» class=»» id=»»] [/imageframe][button link=»http://encin.golf/pdf/torneos/clasificaciones/Clasificaciones27-10-17.pdf» color=»custom» size=»xlarge» type=»3d» shape=»pill» target=»_self» title=»» gradient_colors=»#a0ce4e|» gradient_hover_colors=»#96c346|» accent_color=»» accent_hover_color=»» bevel_color=»» border_width=»0px» icon=»fa-trophy» icon_position=»left» icon_divider=»no» modal=»» animation_type=»0″ animation_direction=»up» animation_speed=»1″ alignment=»center» class=»» id=»»]Descargar[/button][/one_half][/fullwidth]
URL:https://encin.golf/torneo/circuito-de-golf-sotogrande
LOCATION:Campo Encín Golf\, Hotel el Encín Golf AUTOVÍA A2\, KM 35.600\, Madrid\, Madrid\, 28805\, España
CATEGORIES:Torneo Abierto
ATTACH;FMTTYPE=image/jpeg:https://encin.golf/wp-content/uploads/2016/06/Proximamente-mas-informacin-torneos-encin-golf-Hotel-2.jpg
END:VEVENT
END:VCALENDAR