BEGIN:VCALENDAR
VERSION:2.0
PRODID:-//Encín Golf Hotel - Escuela de Golf, Hotel, Restaurante en Madrid - ECPv6.0.11//NONSGML v1.0//EN
CALSCALE:GREGORIAN
METHOD:PUBLISH
X-ORIGINAL-URL:https://encin.golf
X-WR-CALDESC:Eventos para Encín Golf Hotel - Escuela de Golf, Hotel, Restaurante en Madrid
REFRESH-INTERVAL;VALUE=DURATION:PT1H
X-Robots-Tag:noindex
X-PUBLISHED-TTL:PT1H
BEGIN:VTIMEZONE
TZID:UTC
BEGIN:STANDARD
TZOFFSETFROM:+0000
TZOFFSETTO:+0000
TZNAME:UTC
DTSTART:20250101T000000
END:STANDARD
END:VTIMEZONE
BEGIN:VEVENT
DTSTART;VALUE=DATE:20250316
DTEND;VALUE=DATE:20250317
DTSTAMP:20260419T162040
CREATED:20230109T124218Z
LAST-MODIFIED:20250630T184027Z
UID:15448-1742083200-1742169599@encin.golf
SUMMARY:PREMIO DOBLES COPA CANADÁ
DESCRIPTION:FECHA\n16/03/2025\nMODALIDAD\nCOPA CANADA\n\nCATEGORIAS\n1 categoría hándicap indistinto\n\nORDEN DE SALIDAS\nConsecutivas tee 1 por hándicap\n\n\n\n\n\n\n\n\n\n\nNORMAS ELEMENTALES de la COMPETICIÓN\n\n\n\nSe aceptarán jugadores con licencia y hándicap y también niños con hándicap oficial\nEl tiempo máximo asignado para completar el recorrido es de 4 horas y 45 minutos. Se darán tres avisos y si el grupo está fuera de posición en el último aviso \, será descalificado.\nSi no se facilitan posiciones de bandera numéricas \, se establecerá el código de colores habitual del club: rojo/fondo – amarillo/medio y blanco/corto.\nEntregar la tarjeta de juego firmada en recepción y acompañado de su marcador antes de 15 minutos de concluir el último hoyo\nEl Comité puede elegir permitir el uso de buggies.\nEl Comité determinará y avisará si no se permite colocar bola durante el juego.\nINSCRIPCIONES: A través de la aplicación ClapHouse (descárgala aquí)\n\n\n\nCONSULTAR GANADORESRELACIÓN de PREMIOS-TROFEOS\nSí hay\nRELACIÓN de PREMIOS- ESPECIALES\nNo hay\nAVITUALLAMIENTO DURANTE EL TORNEO\nSi hay\nENTREGA DE PREMIOS\nLos ganadores de trofeo recogerán su premio en el evento anual del club
URL:https://encin.golf/torneo/premio-dobles
LOCATION:Campo Encín Golf\, Hotel el Encín Golf AUTOVÍA A2\, KM 35.600\, Madrid\, Madrid\, 28805\, España
CATEGORIES:Modalidad: Copa Canadá,Salidas progresivas,Torneo Abierto
ATTACH;FMTTYPE=image/jpeg:https://encin.golf/wp-content/uploads/2025/03/Torneo-Dobles-2-Encin-Golf-Hotel-scaled.jpg
END:VEVENT
END:VCALENDAR